{"text_format":"1","workbook":"xlsx","n_sheets":9,"sheets":["表紙","入力について","MENU","女子","男子","登録者変更届","競技者変更届","監督・コーチ変更届","学校同行者体調記録表"],"not_rendered":{"charts":0,"images":14,"macros":1,"external_links":0,"defined_names":52,"comments":0,"pivot_tables":0},"unopened":[],"bounds":{"document_bytes":16777216,"sheet_cells":100000,"rows_first":2000,"rows_last":500,"rows_between":2000,"halvings":0,"cell_chars":16384,"cell_head_chars":4096},"cells_cut":0,"cells_raw":0,"read":"whole","date_system":"1900"}

{"sheet":"表紙","index":0,"n_rows":56,"n_cols":25,"rows_kept":56,"cut":false,"hidden":false,"merged":[[3,3,4,30],[7,3,8,7],[7,8,10,29],[9,3,10,7],[13,4,16,29]]}
[]
[1]
[2]
[3,null,null,"令和３年度 大分県中学校総合体育大会"]
[4]
[5]
[6]
[7,null,null,"第69回男子",null,null,null,null,"大分県中学校駅伝競走大会"]
[8]
[9,null,null,"第34回女子"]
[10]
[11]
[12]
[13,null,null,null,"申し込みについて"]
[14]
[15]
[16]
[17]
[18]
[19,null,null,"○","申込Fileは、大分県中体連ＨＰよりダウンロードしてください。"]
[20]
[21]
[22,null,null,"○","「入力について」の画面を熟読し、申し込みを行なってください。"]
[23,null,null,null,null,"・必要事項がすべて記載されています。"]
[24]
[25]
[26,null,null,"○","特にお願いしたいこと"]
[27,null,null,null,"①","例年、郡市番号欄にエラーが出たまま申込書等を提出されている学校があります。"]
[28,null,null,null,null,"・出場枠が複数校ある郡市 …　予選順位の入力をしていない →　入力してください"]
[29,null,null,null,null,"・出場枠が１校のみの郡市 …　予選順位を入力している →　入力しないでください"]
[30,null,null,null,null,null,"※","この場合、どちらもエラーとなり、郡市番号が正しく表示されません。"]
[31,null,null,null,null,null,null,"郡市番号が正しく表示されていることを必ず確認してください。"]
[32]
[33,null,null,null,"②","誤入力を防ぐために「シートの保護（セルをロック）」をしています。"]
[34,null,null,null,null,"勝手に編集されると、記録処理の際に再編集等の手間がかかって困る場合があります。"]
[35,null,null,null,null,null,"※解除しなくてはならない事象が起こった場合は、問い合わせをしてください。"]
[36]
[37,null,null,null,"③","オーダーについては、申込書と連動していますので、区間の欄に「区間数字」"]
[38,null,null,null,null,"または「補員」をプルダウンリストから選択入力してください。"]
[39]
[40]
[41,null,null,"○","提出について"]
[42,null,null,null,"①","提出しなければならないものは、申込書２部（紙媒体・押印済み）＋申込File　です。"]
[43,null,null,null,null,null,"※","申込書２部",null,null,null,"…郵送または持参"]
[44,null,null,null,null,null,null,"申込File",null,null,null,"…電子媒体( E-mail、USB等 )",null,null,null,null,null,null,null,null,null,null,null,null,"で提出してください。"]
[45]
[46,null,null,null,"②","提出先"]
[47,null,null,null,null,null,null,"申込書・Fileともに大分県中体連事務局へお願いします。"]
[48,null,null,null,null,null,null,null,null,null,null,"※10/19（火）締め切り"]
[49]
[50]
[51,null,null,null,null,null,null,"※入力についての不明な点や質問等は、下記までご連絡ください。"]
[52,null,null,null,null,null,null,null,null,null,"緑ヶ丘中学校",null,"TEL ：0979-22-2325",null,null,null,null,null,null,"FAX ：0979-25-1674"]
[53,null,null,null,null,null,null,null,null,null,"神崎　正吉",null,"携帯：090-6637-5081",null,null,null,null,null,null,"E-mail： kanzaki-masayoshi@oen.ed.jp"]
[54]
[55]

{"sheet":"入力について","index":1,"n_rows":127,"n_cols":12,"rows_kept":127,"cut":false,"hidden":false,"merged":[[103,11,107,12],[116,11,120,12],[123,11,124,12],[59,3,59,4],[60,3,60,4],[64,2,66,11],[94,11,96,12],[97,11,101,12],[23,1,23,4],[34,3,34,10],[51,1,51,2],[53,1,53,2],[54,1,54,2]]}
[]
[1]
[{"$f":"A2+1","v":2}]
[3]
[4]
[5]
[6]
[7]
[8]
[9]
[10]
[11]
[12]
[13]
[14]
[15]
[16]
[17]
[18]
[19]
[20]
[21]
[22]
[23,"参加申込書作成にあたって",null,null,null,"※男女同一の出場校でも、申し込みは別々のFileで作成して下さい。"]
[24]
[25,"●入力されたものがそのままプログラム等に記載されます。誤字・脱字のないよう十分注意してください。"]
[26,"●申込File提出の際は、必ずバックアップをとっておいてください。"]
[27]
[28,"１．まずMENUシートで学校データを入力してください。"]
[29,"※白い空白の部分のみを入力してください。(㊟他は入力できないようにロックしてあります｡)PW=437"]
[30,"①郡市名（全出場校）・代表順位（出場枠が複数ある郡市のみ）を入力して下さい。"]
[31,"②バス・マイクロバスの欄は、大会会場までバス等で来る学校はプルダウンリストから“大型・中型・マイクロ”を選択し、"]
[32,"　中欄には台数を数字のみ入力し、乗り合わせ等の事情がある場合は右欄に入力してください。"]
[33,"③姓と名の間は全角の空白（スペース）を空けてください。（名前が５文字になるようにして下さい。）"]
[34,null,"（例）：　","・３文字…中津○○司　　・４文字…中津○司会　　・５文字以上…そのままでかまいません（空白なし）"]
[35,"④TEL番号・FAX番号・携帯番号は半角で入力してください。なお、携帯番号は、可能な限りお書きください。"]
[36]
[37,"２．次に、選手データの入力をしてください。"]
[38,"男子の出場校は青色の男子申込へ、女子の出場校は赤色の女子申込へ",null,null,null,null,null,null,null,"〒870-0163　大分市明野南3-7-1"]
[39,"登録番号１の競技者から入力してください。",null,null,null,null,null,null,null,"大分市立明野中学校内"]
[40,"学年は３年＝③、２年＝②、１年＝①で選択入力してください。",null,null,null,null,null,null,null,"大分県中学校体育連盟事務局　宛"]
[41,"それより上の項目は、MENUシートで入力したものが、反映されます。",null,null,null,null,null,null,null,"TEL：  097-553-2827"]
[42,"入力内容を確認してください。",null,null,null,null,null,null,null,"FAX：  097-553-2940"]
[43,null,null,null,null,null,null,null,null,"E-mail : oita-ctr@agate.plala.or.jp"]
[44,"３．申込書の印刷をしてください。",null,null,null,null,null,null,null,"URL：  http://www.oita-ctr.com/"]
[45,"①MENUに戻り、“男子印刷”・“女子印刷”のボタンを押します。"]
[46,"②申込書とオーダー表が２部ずつ、計４枚出力されます。"]
[47,"③内容を最終確認して、捺印してください。"]
[48,"※オーダー表の競技者名と学年の欄は入力したものが反映されています。保管をしておいてください。"]
[49]
[50,"４．提出：（赤：全チーム提出）（青：必要に応じて）　　※職印・私印等、押し忘れがないようにお願いします。"]
[51,"10/19(火)締切：",null,"申込書２部（紙媒体・押印済み）＋申込File"]
[52,null,null,"※申込書２部は郵送（持参可）、申込Fileは電子媒体で提出。(E-mail、USB等)"]
[53,"11/01(月)締切：",null,"登録者の変更が生じた学校は、登録者変更届１部を提出。"]
[54,"11/04(木)14:00：",null,"オーダー表１部を監督会議受付時に提出。"]
[55,"11/05(金)7:45～8:00：競技者に変更が生じた学校は、競技者変更届１部を大会本部へ提出。"]
[56,null,null,"※監督・コーチに変更が生じた学校は、監督・コーチ変更届１部を速やかに提出。"]
[57]
[58,null,null,"※不明な点や、質問等は下記までご連絡ください。"]
[59,null,null,{"$f":"表紙!K53","v":"緑ヶ丘中学校"},null,{"$f":"表紙!M53","v":"TEL ：0979-22-2325"},null,null,{"$f":"表紙!T53","v":"FAX ：0979-25-1674"}]
[60,null,null,{"$f":"表紙!K54","v":"神崎　正吉"},null,{"$f":"表紙!M54","v":"携帯：090-6637-5081"},null,null,{"$f":"表紙!T54","v":"E-mail： kanzaki-masayoshi@oen.ed.jp"}]
[61]
[62,null,null,"※申込File…県中体連HPより各校でダウンロードして下さい。"]
[63,null,null,"※アップロード（予定）10/05（金）本日"]
[1,null,"〓 参加申込書作成例 〓"]
[2]
[3]
[4]
[5]
[6]
[7]
[8]
[9]
[10]
[11]
[12]
[13]
[14]
[15]
[16]
[17]
[18]
[19]
[20]
[21]
[22]
[23]
[24]
[25]
[26]
[27]
[28]
[29]
[30]
[31,null,null,null,null,null,null,null,null,null,null,"郡市番号が出ているかを必ず確認して下さい。"]
[32]
[33]
[34,null,null,null,null,null,null,null,null,null,null,"※#N/Aのエラーが出ている場合は、MENU画面で誤入力または未入力の欄があります。"]
[35]
[36]
[37]
[38]
[39]
[40,null,null,null,null,null,null,null,null,null,null,"MENUで入力したものが反映されるので、入力の必要なし。＿＿"]
[41]
[42]
[43]
[44]
[45]
[46]
[47]
[48]
[49]
[50]
[51]
[52]
[53,null,null,null,null,null,null,null,null,null,null,"申込で登録した\n競技者が反映さ\nれるので入力の\n必要なし。＿＿"]
[54]
[55]
[56]
[57]
[58]
[59]
[60,null,null,null,null,null,null,null,null,null,null,"区間を選択入力"]
[61]
[62]
[63]

{"sheet":"MENU","index":2,"n_rows":53,"n_cols":15,"rows_kept":53,"cut":false,"hidden":false,"merged":[[20,11,20,12],[1,3,2,8],[14,7,15,7],[17,7,18,7],[17,2,17,3],[17,4,17,6],[17,8,17,9],[17,11,17,12],[18,2,18,3],[18,4,18,6],[18,8,18,9],[14,2,14,3],[14,4,14,6],[14,8,14,9],[14,11,14,12],[15,2,15,3],[15,4,15,6],[15,8,15,9],[10,2,10,3],[10,4,10,6],[10,10,10,15],[12,2,12,3],[12,4,12,5],[12,6,12,7],[12,8,12,9],[6,2,6,3],[6,4,6,5],[6,7,6,8],[8,2,8,3],[8,4,8,5],[8,6,8,7],[8,8,8,9],[3,10,3,13],[1,1,1,2],[2,1,2,2],[4,2,4,3],[4,5,4,6],[4,8,4,9]]}
[]
[null,{"$f":"表紙!D8","v":"第69回男子"},null,"大分県中学校駅伝競走大会 参加申込",null,null,null,null,null,"承認年月日",10,"月",null,"日","←学校"]
[null,{"$f":"表紙!D10","v":"第34回女子"},null,null,null,null,null,null,null,"申込年月日",10,"月",null,"日","←中体連"]
[null,null,null,null,null,null,null,null,null,"会長名を入力┓","10/19 〆切"]
[null,"郡市名",null,null,null,"中学校体育連盟",null,"会 長"]
[null,null,null,null,"（予選順位）"]
[null,null,"学校名",null,null,null,"立",null,null,"中学校"]
[]
[null,null,"学校長名",null,null,null,"アスリートビブス",null,{"$f":"IF(郡市名=\"\",\"\",VLOOKUP(郡市名&代表名,$E$28:$G$53,2,0))","v":""}]
[]
[null,null,"学校所在地",null,null,null,null,"バス\nマイクロバス"]
[null,null,null,null,null,null,null,null,"（バスの種類）","（台数）",null,"（乗り合わせ等の事情）"]
[null,null,"電話番号",null,null,null,"ＦＡＸ番号"]
[]
[null,null,"ふりがな",null,null,null,null,"携帯\n番号","┏可能な限り記入してください",null,null,"申込数"]
[null,null,"監督名",null,null,null,null,null,null,null,null,"男子",{"$f":"COUNTA(男子!$H$24,男子!$H$27,男子!$H$30,男子!$H$33,男子!$H$36,男子!$H$39,男子!$H$42,男子!$H$45,男子!$H$48,男子!$H$51)","v":0}]
[]
[null,null,"ふりがな",null,null,null,null,"携帯\n番号","┏可能な限り記入してください",null,null,"申込数"]
[null,null,"コーチ名",null,null,null,null,null,null,null,null,"女子",{"$f":"COUNTA(女子!$H$24,女子!$H$27,女子!$H$30,女子!$H$33,女子!$H$36,女子!$H$39,女子!$H$42,女子!$H$45)","v":0}]
[]
[null,null,null,null,null,null,null,null,null,null,null,"郡市\n負担",null,{"$f":"IF(AND(M16=0,,M19=0),\"\",SUM(M16,M19))","v":0},"人分"]
[]
[]
[]
[]
[]
[null,null,"郡市名","代表順位","郡市＋順位","№",null,null,null,"交通手段"]
[null,null,"※ 選択 ※　➪",null,"※ 選択 ※　➪",null,null,null,null,"※選択➪"]
[null,null,"佐伯市","①","佐伯市①",1,null,null,null,"大型バス"]
[null,null,"臼杵市","②","佐伯市②",2,null,null,null,"中型バス"]
[null,null,"津久見市","③","臼杵市",3,null,null,null,"マイクロバス"]
[null,null,"大分市","④","津久見市",4]
[null,null,"由布市",null,"大分市①",5]
[null,null,"別府市",null,"大分市②",6]
[null,null,"速見郡",null,"大分市③",7]
[null,null,"杵築市",null,"大分市④",8]
[null,null,"東国東郡・国東市",null,"由布市",9]
[null,null,"豊後高田市",null,"別府市①",10]
[null,null,"宇佐市",null,"別府市②",11]
[null,null,"中津市",null,"速見郡",12]
[null,null,"豊後大野市",null,"杵築市",13]
[null,null,"竹田市",null,"東国東郡・国東市",14]
[null,null,"日田市",null,"豊後高田市",15]
[null,null,"玖珠郡",null,"宇佐市①",16]
[null,null,"開催地",null,"宇佐市②",17]
[null,null,null,null,"中津市①",18]
[null,null,null,null,"中津市②",19]
[null,null,null,null,"豊後大野市",20]
[null,null,null,null,"竹田市",21]
[null,null,null,null,"日田市①",22]
[null,null,null,null,"日田市②",23]
[null,null,null,null,"玖珠郡",24]
[null,null,null,null,"開催地",25]

{"sheet":"女子","index":3,"n_rows":196,"n_cols":32,"rows_kept":196,"cut":false,"hidden":false,"merged":[[179,4,179,8],[170,2,172,3],[170,9,172,12],[170,13,172,22],[170,23,172,31],[171,4,172,8],[167,4,167,8],[170,4,170,8],[179,2,181,3],[179,9,181,12],[179,13,181,22],[179,23,181,31],[180,4,181,8],[173,2,175,3],[173,9,175,12],[173,13,175,22],[173,23,175,31],[174,4,175,8],[176,2,178,3],[176,9,178,12],[176,13,178,22],[176,23,178,31],[177,4,178,8],[173,4,173,8],[176,4,176,8],[164,2,166,3],[164,9,166,12],[164,13,166,22],[164,23,166,31],[165,4,166,8],[161,4,161,8],[164,4,164,8],[167,2,169,3],[167,9,169,12],[167,13,169,22],[167,23,169,31],[168,4,169,8],[158,2,160,3],[158,9,160,12],[158,13,160,22],[158,23,160,31],[159,4,160,8],[155,4,155,8],[158,4,158,8],[161,2,163,3],[161,9,163,12],[161,13,163,22],[161,23,163,31],[162,4,163,8],[152,2,154,3],[152,9,154,12],[152,13,154,22],[152,23,154,31],[153,4,154,8],[149,4,149,8],[152,4,152,8],[155,2,157,3],[155,9,157,12],[155,13,157,22],[155,23,157,31],[156,4,157,8],[147,2,148,3],[147,4,148,8],[147,9,148,12],[147,13,148,22],[147,23,148,31],[149,2,151,3],[149,9,151,12],[149,13,151,22],[149,23,151,31],[150,4,151,8],[138,2,140,31],[142,2,143,5],[142,6,143,10],[142,12,143,15],[142,16,143,27],[142,28,143,31],[144,2,145,5],[144,6,145,10],[144,15,145,18],[144,20,145,23],[144,24,145,31],[110,2,112,6],[110,7,112,18],[110,19,112,21],[110,22,112,24],[110,25,112,31],[129,3,130,30],[131,3,132,9],[131,10,134,30],[133,3,134,9],[104,2,106,6],[104,7,106,18],[104,19,106,21],[104,22,106,24],[104,25,106,31],[107,2,109,6],[107,7,109,18],[107,19,109,21],[107,22,109,24],[107,25,109,31],[98,2,100,6],[98,7,100,18],[98,19,100,21],[98,22,100,24],[98,25,100,31],[101,2,103,6],[101,7,103,18],[101,19,103,21],[101,22,103,24],[101,25,103,31],[92,2,94,6],[92,7,94,18],[92,19,94,21],[92,22,94,24],[92,25,94,31],[95,2,97,6],[95,7,97,18],[95,19,97,21],[95,22,97,24],[95,25,97,31],[86,2,88,6],[86,7,88,18],[86,19,88,21],[86,22,88,24],[86,25,88,31],[89,2,91,6],[89,7,91,18],[89,19,91,21],[89,22,91,24],[89,25,91,31],[43,2,45,6],[43,19,45,21],[43,22,45,31],[44,7,45,18],[65,2,66,31],[63,2,63,31],[82,15,83,16],[82,17,83,21],[82,22,83,29],[82,30,83,31],[80,2,81,6],[80,7,81,14],[80,15,81,16],[80,17,81,31],[82,2,83,6],[82,7,83,14],[43,7,43,18],[56,11,56,14],[56,16,56,19],[56,23,56,27],[67,2,70,9],[67,10,70,31],[71,2,73,31],[76,2,77,6],[37,2,39,6],[37,19,39,21],[37,22,39,31],[38,7,39,18],[40,2,42,6],[40,19,42,21],[40,22,42,31],[41,7,42,18],[34,7,34,18],[37,7,37,18],[40,7,40,18],[29,7,30,18],[31,2,33,6],[31,19,33,21],[31,22,33,31],[32,7,33,18],[28,7,28,18],[31,7,31,18],[34,2,36,6],[34,19,36,21],[34,22,36,31],[35,7,36,18],[1,2,2,31],[3,2,6,9],[3,10,6,31],[7,2,8,4],[7,5,8,6],[7,7,8,12],[7,13,8,15],[7,16,8,20],[7,21,8,22],[7,23,8,26],[7,27,8,29],[7,30,8,31],[9,2,10,6],[9,7,10,21],[9,22,10,27],[11,2,12,6],[11,7,12,16],[11,17,12,21],[11,22,12,31],[61,11,61,15],[61,23,61,27],[9,28,9,31],[10,28,10,31],[13,2,13,6],[13,7,13,14],[16,2,16,6],[16,7,16,14],[19,7,19,18],[22,7,22,18],[25,7,25,18],[13,15,15,16],[13,17,15,21],[13,22,15,31],[14,2,15,6],[14,7,15,14],[16,15,18,16],[76,7,77,16],[76,17,77,21],[76,22,77,31],[78,2,79,6],[78,7,79,31],[16,17,18,21],[16,22,18,31],[17,2,18,6],[17,7,18,14],[19,2,21,6],[19,19,21,21],[19,22,21,31],[20,7,21,18],[22,2,24,6],[22,19,24,21],[22,22,24,31],[23,7,24,18],[25,2,27,6],[25,19,27,21],[25,22,27,31],[26,7,27,18],[28,2,30,6],[28,19,30,21],[28,22,30,31]]}
[]
[null,null,{"$f":"表紙!$D$4","v":"令和３年度 大分県中学校総合体育大会"}]
[]
[null,null,{"$f":"MENU!$B$3","v":"第34回女子"},null,null,null,null,null,null,null,"大分県中学校駅伝競走大会申込書"]
[]
[]
[]
[null,null,"郡市名",null,null,"代表\n順位",null,{"$f":"IF(MENU!C5=\"\",\"\",INDIRECT(\"MENU!C5\")&INDIRECT(\"MENU!E5\"))","v":""},null,null,null,null,null,"学校名",null,null,{"$f":"IF(MENU!E7=\"\",\"\",INDIRECT(\"MENU!E7\"))","v":""},null,null,null,null,"立",null,{"$f":"IF(MENU!H7=\"\",\"\",INDIRECT(\"MENU!H7\"))","v":""},null,null,null,"中学校",null,null,{"$f":"IF(MENU!I9=\"\",\"\",INDIRECT(\"MENU!I9\"))","v":""}]
[]
[null,null,"学校所在地",null,null,null,null,{"$f":"IF(MENU!E11=\"\",\"\",INDIRECT(\"MENU!E11\"))","v":""},null,null,null,null,null,null,null,null,null,null,null,null,null,null,"バス\nマイクロバス",null,null,null,null,null,{"$f":"IF(OR(MENU!I11=\"※選択➪\",MENU!I11=\"\"),\"\",MENU!I11)","v":""}]
[null,null,null,null,null,null,null,null,null,null,null,null,null,null,null,null,null,null,null,null,null,null,null,null,null,null,null,null,{"$f":"IF(MENU!J11=\"\",\"\",MENU!J11)","v":""}]
[null,null,"電話番号",null,null,null,null,{"$f":"IF(MENU!E13=\"\",\"\",INDIRECT(\"MENU!E13\"))","v":""},null,null,null,null,null,null,null,null,null,"ＦＡＸ番号",null,null,null,null,{"$f":"IF(MENU!I13=\"\",\"\",INDIRECT(\"MENU!I13\"))","v":""}]
[]
[null,null,"ふりがな",null,null,null,null,{"$f":"IF(MENU!E15=\"\",\"\",INDIRECT(\"MENU!E15\"))","v":""},null,null,null,null,null,null,null,"㊞",null,"携帯番号",null,null,null,null,{"$f":"IF(MENU!I16=\"\",\"\",INDIRECT(\"MENU!I16\"))","v":""}]
[null,null,"監督名",null,null,null,null,{"$f":"IF(MENU!E16=\"\",\"\",INDIRECT(\"MENU!E16\"))","v":""}]
[]
[null,null,"ふりがな",null,null,null,null,{"$f":"IF(MENU!E18=\"\",\"\",INDIRECT(\"MENU!E18\"))","v":""},null,null,null,null,null,null,null,"㊞",null,"携帯番号",null,null,null,null,{"$f":"IF(MENU!I19=\"\",\"\",INDIRECT(\"MENU!I19\"))","v":""}]
[null,null,"コーチ名",null,null,null,null,{"$f":"IF(MENU!E19=\"\",\"\",INDIRECT(\"MENU!E19\"))","v":""}]
[]
[null,null,"登録番号",null,null,null,null,"ふりがな",null,null,null,null,null,null,null,null,null,null,null,"学年",null,null,"備　　考"]
[null,null,null,null,null,null,null,"競技者氏名"]
[]
[null,null,1]
[]
[]
[null,null,2]
[]
[]
[null,null,3]
[]
[]
[null,null,4]
[]
[]
[null,null,5]
[]
[]
[null,null,6]
[]
[]
[null,null,7]
[]
[]
[null,null,8]
[]
[]
[]
[null,null,null,null,null,null,null,null,null,null,null,null,null,null,null,null,null,null,null,null,null,null,null,"③","●"]
[null,null,null,null,null,null,null,null,null,null,null,null,null,null,null,null,null,null,null,null,null,null,null,"②"]
[null,null,null,null,null,null,null,null,null,null,null,null,null,null,null,null,null,null,null,null,null,null,null,"①"]
[]
[]
[]
[null,null,"上記の者は本校在学の生徒であり、標記大会への出場を承認します。"]
[]
[null,null,null,null,null,"令和",2,"年",{"$f":"IF(承認_月=\"\",\"\",承認_月)","v":10},"月",{"$f":"IF(承認_日=\"\",\"\",承認_日)","v":""},"日"]
[null,null,null,null,null,null,null,null,null,null,null,{"$f":"IF(MENU!E7=\"\",\"\",INDIRECT(\"MENU!E7\"))","v":""},null,null,null,"立",{"$f":"IF(MENU!H7=\"\",\"\",INDIRECT(\"MENU!H7\"))","v":""},null,null,null,null,null,"中学校長",{"$f":"IF(MENU!E9=\"\",\"\",INDIRECT(\"MENU!E9\"))","v":""}]
[]
[null,null,"上記のチームを郡市代表として、標記大会への出場を認め、大会への参加申込をいたします。"]
[]
[null,null,null,null,null,{"$f":"$F$56","v":"令和"},{"$f":"$G$56","v":2},"年",{"$f":"IF(申込_月=\"\",\"\",申込_月)","v":10},"月",null,"日"]
[null,null,null,null,null,null,null,null,null,null,null,{"$f":"IF(MENU!C5=\"\",\"\",INDIRECT(\"MENU!C5\"))","v":""},null,null,null,null,null,null,null,null,null,null,"中学校体育連盟会長",{"$f":"IF(MENU!I5=\"\",\"\",INDIRECT(\"MENU!I5\"))","v":""}]
[]
[null,null,"※登録者の変更がある場合は、11/01(月) までに大分県中体連事務局へ提出すること。"]
[]
[null,null,{"$f":"C2","v":"令和３年度 大分県中学校総合体育大会"}]
[]
[null,null,{"$f":"MENU!$B$3","v":"第34回女子"},null,null,null,null,null,null,null,"大分県中学校駅伝競走大会申込書"]
[]
[]
[]
[null,null,"オーダー表"]
[]
[]
[]
[]
[null,null,"郡市名",null,null,null,null,{"$f":"IF(H8=\"\",\"\",INDIRECT(\"H8\"))","v":""},null,null,null,null,null,null,null,null,null,"ナンバーカード",null,null,null,null,{"$f":"IF(AE8=\"\",\"\",INDIRECT(\"AE8\"))","v":""}]
[]
[null,null,"学校名",null,null,null,null,{"$f":"IF(H8=\"\",\"\",INDIRECT(\"Q8\")&\" \"&INDIRECT(\"V8\")&\"　\"&INDIRECT(\"X8\")&\" \"&INDIRECT(\"AB8\"))","v":""}]
[]
[null,null,"学校長名",null,null,null,null,{"$f":"IF(X57=\"\",\"\",INDIRECT(\"X57\"))","v":""}]
[]
[null,null,"監督名",null,null,null,null,{"$f":"IF(H15=\"\",\"\",INDIRECT(\"H15\"))","v":""},null,null,null,null,null,null,null,"㊞",null,"コーチ名",null,null,null,null,{"$f":"IF(H18=\"\",\"\",INDIRECT(\"H18\"))","v":""},null,null,null,null,null,null,null,"㊞"]
[]
[]
[]
[null,null,"登録番号",null,null,null,null,"競技者氏名",null,null,null,null,null,null,null,null,null,null,null,"学年",null,null,"区間",null,null,"備　　考"]
[]
[]
[null,null,1,null,null,null,null,{"$f":"IF(H24=\"\",\"\",INDIRECT(\"H24\"))","v":""},null,null,null,null,null,null,null,null,null,null,null,{"$f":"IF(T23=\"\",\"\",INDIRECT(\"T23\"))","v":""}]
[]
[]
[null,null,2,null,null,null,null,{"$f":"IF(H27=\"\",\"\",INDIRECT(\"H27\"))","v":""},null,null,null,null,null,null,null,null,null,null,null,{"$f":"IF(T26=\"\",\"\",INDIRECT(\"T26\"))","v":""}]
[]
[]
[null,null,3,null,null,null,null,{"$f":"IF(H30=\"\",\"\",INDIRECT(\"H30\"))","v":""},null,null,null,null,null,null,null,null,null,null,null,{"$f":"IF(T29=\"\",\"\",INDIRECT(\"T29\"))","v":""}]
[]
[]
[null,null,4,null,null,null,null,{"$f":"IF(H33=\"\",\"\",INDIRECT(\"H33\"))","v":""},null,null,null,null,null,null,null,null,null,null,null,{"$f":"IF(T32=\"\",\"\",INDIRECT(\"T32\"))","v":""}]
[]
[]
[null,null,5,null,null,null,null,{"$f":"IF(H36=\"\",\"\",INDIRECT(\"H36\"))","v":""},null,null,null,null,null,null,null,null,null,null,null,{"$f":"IF(T35=\"\",\"\",INDIRECT(\"T35\"))","v":""}]
[]
[]
[null,null,6,null,null,null,null,{"$f":"IF(H39=\"\",\"\",INDIRECT(\"h39\"))","v":""},null,null,null,null,null,null,null,null,null,null,null,{"$f":"IF(T38=\"\",\"\",INDIRECT(\"T38\"))","v":""}]
[]
[]
[null,null,7,null,null,null,null,{"$f":"IF(H42=\"\",\"\",INDIRECT(\"H42\"))","v":""},null,null,null,null,null,null,null,null,null,null,null,{"$f":"IF(T41=\"\",\"\",INDIRECT(\"T41\"))","v":""}]
[]
[]
[null,null,8,null,null,null,null,{"$f":"IF(H45=\"\",\"\",INDIRECT(\"H45\"))","v":""},null,null,null,null,null,null,null,null,null,null,null,{"$f":"IF(T44=\"\",\"\",INDIRECT(\"T44\"))","v":""}]
[]
[]
[]
[]
[]
[]
[]
[]
[]
[]
[]
[]
[]
[null,null,null,"「区間」の欄には、数字または「補員」を記入すること。"]
[]
[null,null,null,"※オーダー提出後の競技者及び区間の変更は認めない。それ以降の競技者の変更は、その区間と補員"]
[null,null,null,"　との交替のみとする。その際、競技者変更届を大会当日の５日(金) 8:00までに大会本部へ提出すること。"]
[]
[null,null,null,"平成２７年度 大分県中学校総合体育大会"]
[]
[null,null,null,"第63回男子",null,null,null,null,null,null,"大分県中学校駅伝競走大会"]
[]
[null,null,null,"第28回女子"]
[]
[]
[]
[]
[null,null,"健　康　観　察　表"]
[]
[]
[]
[null,null,"郡市名",null,null,null,{"$f":"IF(郡市名=\"\",\"\",郡市名&代表名)","v":""},null,null,null,null,null,"学校名",null,null,null,{"$f":"MENU!$E$7&MENU!$G$7&\"　\"&MENU!$H$7","v":"立　"},null,null,null,null,null,null,null,null,null,null,null,"中学校"]
[]
[null,null,"ナンバー\nカード",null,null,null,{"$f":"IF(ナンバーカード=\"\",\"\",ナンバーカード)","v":""},null,null,null,null,null,null,null,null,"女子",null,null,null,null,"監督名",null,null,null,{"$f":"IF(監督名=\"\",\"\",監督名)","v":""}]
[]
[]
[null,null,"登録\n番号",null,"名　前",null,null,null,null,"体　温",null,null,null,"呼吸器の症状",null,null,null,null,null,null,null,null,null,"呼吸器以外の症状"]
[]
[null,null,1,null,{"$f":"IF(H23=\"\",\"\",H23)","v":""},null,null,null,null,".　℃ ",null,null,null,"なし･鼻水･鼻閉･咽頭痛･咳･その他",null,null,null,null,null,null,null,null,null,"なし･下痢･嘔吐･頭痛･その他"]
[null,null,null,null,{"$f":"IF(H24=\"\",\"\",H24)","v":""}]
[]
[null,null,2,null,{"$f":"IF(H26=\"\",\"\",H26)","v":""},null,null,null,null,".　℃ ",null,null,null,"なし･鼻水･鼻閉･咽頭痛･咳･その他",null,null,null,null,null,null,null,null,null,"なし･下痢･嘔吐･頭痛･その他"]
[null,null,null,null,{"$f":"IF(H27=\"\",\"\",H27)","v":""}]
[]
[null,null,3,null,{"$f":"IF(H29=\"\",\"\",H29)","v":""},null,null,null,null,".　℃ ",null,null,null,"なし･鼻水･鼻閉･咽頭痛･咳･その他",null,null,null,null,null,null,null,null,null,"なし･下痢･嘔吐･頭痛･その他"]
[null,null,null,null,{"$f":"IF(H30=\"\",\"\",H30)","v":""}]
[]
[null,null,4,null,{"$f":"IF(H32=\"\",\"\",H32)","v":""},null,null,null,null,".　℃ ",null,null,null,"なし･鼻水･鼻閉･咽頭痛･咳･その他",null,null,null,null,null,null,null,null,null,"なし･下痢･嘔吐･頭痛･その他"]
[null,null,null,null,{"$f":"IF(H33=\"\",\"\",H33)","v":""}]
[]
[null,null,5,null,{"$f":"IF(H35=\"\",\"\",H35)","v":""},null,null,null,null,".　℃ ",null,null,null,"なし･鼻水･鼻閉･咽頭痛･咳･その他",null,null,null,null,null,null,null,null,null,"なし･下痢･嘔吐･頭痛･その他"]
[null,null,null,null,{"$f":"IF(H36=\"\",\"\",H36)","v":""}]
[]
[null,null,6,null,{"$f":"IF(H38=\"\",\"\",H38)","v":""},null,null,null,null,".　℃ ",null,null,null,"なし･鼻水･鼻閉･咽頭痛･咳･その他",null,null,null,null,null,null,null,null,null,"なし･下痢･嘔吐･頭痛･その他"]
[null,null,null,null,{"$f":"IF(H39=\"\",\"\",H39)","v":""}]
[]
[null,null,7,null,{"$f":"IF(H41=\"\",\"\",H41)","v":""},null,null,null,null,".　℃ ",null,null,null,"なし･鼻水･鼻閉･咽頭痛･咳･その他",null,null,null,null,null,null,null,null,null,"なし･下痢･嘔吐･頭痛･その他"]
[null,null,null,null,{"$f":"IF(H42=\"\",\"\",H42)","v":""}]
[]
[null,null,8,null,{"$f":"IF(H44=\"\",\"\",H44)","v":""},null,null,null,null,".　℃ ",null,null,null,"なし･鼻水･鼻閉･咽頭痛･咳･その他",null,null,null,null,null,null,null,null,null,"なし･下痢･嘔吐･頭痛･その他"]
[null,null,null,null,{"$f":"IF(H45=\"\",\"\",H45)","v":""}]
[]
[null,null,"変更\n①",null,null,null,null,null,null,".　℃ ",null,null,null,"なし･鼻水･鼻閉･咽頭痛･咳･その他",null,null,null,null,null,null,null,null,null,"なし･下痢･嘔吐･頭痛･その他"]
[]
[]
[null,null,"変更\n②",null,null,null,null,null,null,".　℃ ",null,null,null,"なし･鼻水･鼻閉･咽頭痛･咳･その他",null,null,null,null,null,null,null,null,null,"なし･下痢･嘔吐･頭痛･その他"]
[]
[]
[null,null,"変更\n③",null,null,null,null,null,null,".　℃ ",null,null,null,"なし･鼻水･鼻閉･咽頭痛･咳･その他",null,null,null,null,null,null,null,null,null,"なし･下痢･嘔吐･頭痛･その他"]
[]
[]
[]
[]
[]
[]
[]
[]
[]
[]
[]
[null,null,null,null,null,null,null,null,null,null,null,null,null,null,null,null,null,null,null,null,null,null,null,null,null,null,null,null,null,null,null,"※朝、登録選手全員に健康観察を行い、チーム受付時に全チーム提出〔７日(土)8:30まで〕"]
[]
[]
[]
[null,null,null,null,1,2,3,4,5,"補員"]

{"sheet":"男子","index":4,"n_rows":195,"n_cols":32,"rows_kept":195,"cut":false,"hidden":false,"merged":[[185,2,187,3],[185,9,187,12],[185,13,187,22],[185,23,187,31],[186,4,187,8],[179,2,181,3],[179,9,181,12],[179,13,181,22],[179,23,181,31],[180,4,181,8],[182,2,184,3],[182,9,184,12],[182,13,184,22],[182,23,184,31],[183,4,184,8],[179,4,179,8],[182,4,182,8],[185,4,185,8],[173,2,175,3],[173,9,175,12],[173,13,175,22],[173,23,175,31],[174,4,175,8],[176,2,178,3],[176,9,178,12],[176,13,178,22],[176,23,178,31],[177,4,178,8],[173,4,173,8],[176,4,176,8],[167,2,169,3],[167,9,169,12],[167,13,169,22],[167,23,169,31],[168,4,169,8],[170,2,172,3],[170,9,172,12],[170,13,172,22],[170,23,172,31],[171,4,172,8],[167,4,167,8],[170,4,170,8],[161,2,163,3],[161,9,163,12],[161,13,163,22],[161,23,163,31],[162,4,163,8],[164,2,166,3],[164,9,166,12],[164,13,166,22],[164,23,166,31],[165,4,166,8],[161,4,161,8],[164,4,164,8],[155,2,157,3],[155,9,157,12],[155,13,157,22],[155,23,157,31],[156,4,157,8],[158,2,160,3],[158,9,160,12],[158,13,160,22],[158,23,160,31],[159,4,160,8],[149,2,151,3],[149,9,151,12],[149,13,151,22],[149,23,151,31],[150,4,151,8],[152,2,154,3],[152,9,154,12],[152,13,154,22],[152,23,154,31],[153,4,154,8],[144,2,145,5],[144,6,145,10],[144,15,145,18],[144,20,145,23],[144,24,145,31],[147,2,148,3],[147,4,148,8],[147,9,148,12],[147,13,148,22],[147,23,148,31],[129,3,130,30],[131,3,132,9],[131,10,134,30],[133,3,134,9],[138,2,140,31],[142,2,143,5],[142,6,143,10],[142,12,143,15],[142,16,143,27],[142,28,143,31],[113,2,115,6],[113,7,115,18],[113,19,115,21],[113,22,115,24],[113,25,115,31],[116,2,118,6],[116,7,118,18],[116,19,118,21],[116,22,118,24],[116,25,118,31],[107,2,109,6],[107,7,109,18],[107,19,109,21],[107,22,109,24],[107,25,109,31],[110,2,112,6],[110,7,112,18],[110,19,112,21],[110,22,112,24],[110,25,112,31],[101,2,103,6],[101,7,103,18],[101,19,103,21],[101,22,103,24],[101,25,103,31],[104,2,106,6],[104,7,106,18],[104,19,106,21],[104,22,106,24],[104,25,106,31],[95,2,97,6],[95,7,97,18],[95,19,97,21],[95,22,97,24],[95,25,97,31],[98,2,100,6],[98,7,100,18],[98,19,100,21],[98,22,100,24],[98,25,100,31],[89,2,91,6],[89,7,91,18],[89,19,91,21],[89,22,91,24],[89,25,91,31],[92,2,94,6],[92,7,94,18],[92,19,94,21],[92,22,94,24],[92,25,94,31],[82,7,83,14],[82,15,83,16],[82,17,83,21],[82,22,83,29],[82,30,83,31],[86,2,88,6],[86,7,88,18],[86,19,88,21],[86,22,88,24],[86,25,88,31],[43,2,45,6],[43,19,45,21],[43,22,45,31],[44,7,45,18],[46,2,48,6],[46,19,48,21],[46,22,48,31],[47,7,48,18],[49,2,51,6],[49,19,51,21],[49,22,51,31],[50,7,51,18],[43,7,43,18],[46,7,46,18],[49,7,49,18],[34,2,36,6],[34,19,36,21],[34,22,36,31],[35,7,36,18],[37,2,39,6],[37,19,39,21],[37,22,39,31],[38,7,39,18],[40,2,42,6],[40,19,42,21],[40,22,42,31],[41,7,42,18],[34,7,34,18],[37,7,37,18],[40,7,40,18],[25,2,27,6],[25,19,27,21],[25,22,27,31],[26,7,27,18],[28,2,30,6],[28,19,30,21],[28,22,30,31],[29,7,30,18],[31,2,33,6],[31,19,33,21],[31,22,33,31],[32,7,33,18],[28,7,28,18],[31,7,31,18],[17,2,18,6],[17,7,18,14],[19,2,21,6],[19,19,21,21],[19,22,21,31],[20,7,21,18],[22,2,24,6],[22,19,24,21],[22,22,24,31],[23,7,24,18],[16,17,18,21],[16,22,18,31],[1,2,2,31],[3,2,6,9],[3,10,6,31],[7,2,8,4],[7,5,8,6],[7,7,8,12],[7,13,8,15],[7,16,8,20],[7,21,8,22],[7,23,8,26],[7,27,8,29],[7,30,8,31],[56,23,56,27],[61,11,61,15],[61,23,61,27],[63,2,63,31],[74,22,74,31],[149,4,149,8],[152,4,152,8],[155,4,155,8],[158,4,158,8],[65,2,66,31],[67,2,70,9],[67,10,70,31],[71,2,73,31],[76,2,77,6],[76,7,77,16],[76,17,77,21],[76,22,77,31],[78,2,79,6],[78,7,79,31],[80,2,81,6],[80,7,81,14],[80,15,81,16],[80,17,81,31],[82,2,83,6],[56,11,56,14],[56,16,56,19],[9,28,9,31],[10,28,10,31],[13,2,13,6],[13,7,13,14],[16,2,16,6],[16,7,16,14],[19,7,19,18],[22,7,22,18],[25,7,25,18],[9,2,10,6],[9,7,10,21],[9,22,10,27],[11,2,12,6],[11,7,12,16],[11,17,12,21],[11,22,12,31],[13,15,15,16],[13,17,15,21],[13,22,15,31],[14,2,15,6],[14,7,15,14],[16,15,18,16]]}
[]
[null,null,{"$f":"表紙!$D$4","v":"令和３年度 大分県中学校総合体育大会"}]
[]
[null,null,{"$f":"MENU!$B$2","v":"第69回男子"},null,null,null,null,null,null,null,"大分県中学校駅伝競走大会申込書"]
[]
[]
[]
[null,null,"郡市名",null,null,"代表\n順位",null,{"$f":"IF(MENU!C5=\"\",\"\",INDIRECT(\"MENU!C5\")&INDIRECT(\"MENU!E5\"))","v":""},null,null,null,null,null,"学校名",null,null,{"$f":"IF(MENU!E7=\"\",\"\",INDIRECT(\"MENU!E7\"))","v":""},null,null,null,null,"立",null,{"$f":"IF(MENU!H7=\"\",\"\",INDIRECT(\"MENU!H7\"))","v":""},null,null,null,"中学校",null,null,{"$f":"IF(MENU!I9=\"\",\"\",INDIRECT(\"MENU!I9\"))","v":""}]
[]
[null,null,"学校所在地",null,null,null,null,{"$f":"IF(MENU!E11=\"\",\"\",INDIRECT(\"MENU!E11\"))","v":""},null,null,null,null,null,null,null,null,null,null,null,null,null,null,"バス\nマイクロバス",null,null,null,null,null,{"$f":"IF(OR(MENU!I11=\"※選択➪\",MENU!I11=\"\"),\"\",MENU!I11)","v":""}]
[null,null,null,null,null,null,null,null,null,null,null,null,null,null,null,null,null,null,null,null,null,null,null,null,null,null,null,null,{"$f":"IF(MENU!J11=\"\",\"\",MENU!J11)","v":""}]
[null,null,"電話番号",null,null,null,null,{"$f":"IF(MENU!E13=\"\",\"\",INDIRECT(\"MENU!E13\"))","v":""},null,null,null,null,null,null,null,null,null,"ＦＡＸ番号",null,null,null,null,{"$f":"IF(MENU!I13=\"\",\"\",INDIRECT(\"MENU!I13\"))","v":""}]
[]
[null,null,"ふりがな",null,null,null,null,{"$f":"IF(MENU!E15=\"\",\"\",INDIRECT(\"MENU!E15\"))","v":""},null,null,null,null,null,null,null,"㊞",null,"携帯番号",null,null,null,null,{"$f":"IF(MENU!I16=\"\",\"\",INDIRECT(\"MENU!I16\"))","v":""}]
[null,null,"監督名",null,null,null,null,{"$f":"IF(MENU!E16=\"\",\"\",INDIRECT(\"MENU!E16\"))","v":""}]
[]
[null,null,"ふりがな",null,null,null,null,{"$f":"IF(MENU!E18=\"\",\"\",INDIRECT(\"MENU!E18\"))","v":""},null,null,null,null,null,null,null,"㊞",null,"携帯番号",null,null,null,null,{"$f":"IF(MENU!I19=\"\",\"\",INDIRECT(\"MENU!I19\"))","v":""}]
[null,null,"コーチ名",null,null,null,null,{"$f":"IF(MENU!E19=\"\",\"\",INDIRECT(\"MENU!E19\"))","v":""}]
[]
[null,null,"登録番号",null,null,null,null,"ふりがな",null,null,null,null,null,null,null,null,null,null,null,"学年",null,null,"備　　考"]
[null,null,null,null,null,null,null,"競技者氏名"]
[]
[null,null,1]
[]
[]
[null,null,2]
[]
[]
[null,null,3]
[]
[]
[null,null,4]
[]
[]
[null,null,5]
[]
[]
[null,null,6]
[]
[]
[null,null,7]
[]
[]
[null,null,8]
[]
[]
[null,null,9]
[]
[]
[null,null,10]
[]
[]
[]
[null,null,"上記の者は本校在学の生徒であり、標記大会への出場を承認します。",null,null,null,null,null,null,null,null,null,null,null,null,null,null,null,null,null,null,null,null,"③","●"]
[null,null,null,null,null,null,null,null,null,null,null,null,null,null,null,null,null,null,null,null,null,null,null,"②"]
[null,null,null,null,null,{"$f":"女子!F56","v":"令和"},{"$f":"女子!G56","v":2},"年",{"$f":"IF(承認_月=\"\",\"\",承認_月)","v":10},"月",{"$f":"IF(承認_日=\"\",\"\",承認_日)","v":""},"日",null,null,null,null,null,null,null,null,null,null,null,"①"]
[null,null,null,null,null,null,null,null,null,null,null,{"$f":"IF(MENU!E7=\"\",\"\",INDIRECT(\"MENU!E7\"))","v":""},null,null,null,"立",{"$f":"IF(MENU!H7=\"\",\"\",INDIRECT(\"MENU!H7\"))","v":""},null,null,null,null,null,"中学校長",{"$f":"IF(MENU!E9=\"\",\"\",INDIRECT(\"MENU!E9\"))","v":""}]
[]
[null,null,"上記のチームを郡市代表として、標記大会への出場を認め、大会への参加申込をいたします。"]
[]
[null,null,null,null,null,{"$f":"F56","v":"令和"},{"$f":"G56","v":2},"年",{"$f":"IF(申込_月=\"\",\"\",申込_月)","v":10},"月",{"$f":"IF(申込_日=\"\",\"\",申込_日)","v":""},"日"]
[null,null,null,null,null,null,null,null,null,null,null,{"$f":"IF(MENU!C5=\"\",\"\",INDIRECT(\"MENU!C5\"))","v":""},null,null,null,null,null,null,null,null,null,null,"中学校体育連盟会長",{"$f":"IF(MENU!I5=\"\",\"\",INDIRECT(\"MENU!I5\"))","v":""}]
[]
[null,null,{"$f":"女子!$C$64","v":"※登録者の変更がある場合は、11/01(月) までに大分県中体連事務局へ提出すること。"}]
[]
[null,null,{"$f":"C2","v":"令和３年度 大分県中学校総合体育大会"}]
[]
[null,null,{"$f":"MENU!$B$2","v":"第69回男子"},null,null,null,null,null,null,null,"大分県中学校駅伝競走大会申込書"]
[]
[]
[]
[null,null,"オーダー表"]
[]
[]
[]
[]
[null,null,"郡市名",null,null,null,null,{"$f":"IF(H8=\"\",\"\",INDIRECT(\"H8\"))","v":""},null,null,null,null,null,null,null,null,null,"ナンバーカード",null,null,null,null,{"$f":"IF(AE8=\"\",\"\",INDIRECT(\"AE8\"))","v":""}]
[]
[null,null,"学校名",null,null,null,null,{"$f":"IF(H8=\"\",\"\",INDIRECT(\"Q8\")&\" \"&INDIRECT(\"V8\")&\"　\"&INDIRECT(\"X8\")&\" \"&INDIRECT(\"AB8\"))","v":""}]
[]
[null,null,"学校長名",null,null,null,null,{"$f":"IF(X57=\"\",\"\",INDIRECT(\"X57\"))","v":""}]
[]
[null,null,"監督名",null,null,null,null,{"$f":"IF(H15=\"\",\"\",INDIRECT(\"H15\"))","v":""},null,null,null,null,null,null,null,"㊞",null,"コーチ名",null,null,null,null,{"$f":"IF(H18=\"\",\"\",INDIRECT(\"H18\"))","v":""},null,null,null,null,null,null,null,"㊞"]
[]
[]
[]
[null,null,"登録番号",null,null,null,null,"競技者氏名",null,null,null,null,null,null,null,null,null,null,null,"学年",null,null,"区間",null,null,"備　　考"]
[]
[]
[null,null,1,null,null,null,null,{"$f":"IF(H24=\"\",\"\",INDIRECT(\"H24\"))","v":""},null,null,null,null,null,null,null,null,null,null,null,{"$f":"IF(T23=\"\",\"\",INDIRECT(\"T23\"))","v":""}]
[]
[]
[null,null,2,null,null,null,null,{"$f":"IF(H27=\"\",\"\",INDIRECT(\"H27\"))","v":""},null,null,null,null,null,null,null,null,null,null,null,{"$f":"IF(T26=\"\",\"\",INDIRECT(\"T26\"))","v":""}]
[]
[]
[null,null,3,null,null,null,null,{"$f":"IF(H30=\"\",\"\",INDIRECT(\"H30\"))","v":""},null,null,null,null,null,null,null,null,null,null,null,{"$f":"IF(T29=\"\",\"\",INDIRECT(\"T29\"))","v":""}]
[]
[]
[null,null,4,null,null,null,null,{"$f":"IF(H33=\"\",\"\",INDIRECT(\"H33\"))","v":""},null,null,null,null,null,null,null,null,null,null,null,{"$f":"IF(T32=\"\",\"\",INDIRECT(\"T32\"))","v":""}]
[]
[]
[null,null,5,null,null,null,null,{"$f":"IF(H36=\"\",\"\",INDIRECT(\"H36\"))","v":""},null,null,null,null,null,null,null,null,null,null,null,{"$f":"IF(T35=\"\",\"\",INDIRECT(\"T35\"))","v":""}]
[]
[]
[null,null,6,null,null,null,null,{"$f":"IF(H39=\"\",\"\",INDIRECT(\"H39\"))","v":""},null,null,null,null,null,null,null,null,null,null,null,{"$f":"IF(T38=\"\",\"\",INDIRECT(\"T38\"))","v":""}]
[]
[]
[null,null,7,null,null,null,null,{"$f":"IF(H42=\"\",\"\",INDIRECT(\"H42\"))","v":""},null,null,null,null,null,null,null,null,null,null,null,{"$f":"IF(T41=\"\",\"\",INDIRECT(\"T41\"))","v":""}]
[]
[]
[null,null,8,null,null,null,null,{"$f":"IF(H45=\"\",\"\",INDIRECT(\"H45\"))","v":""},null,null,null,null,null,null,null,null,null,null,null,{"$f":"IF(T44=\"\",\"\",INDIRECT(\"T44\"))","v":""}]
[]
[]
[null,null,9,null,null,null,null,{"$f":"IF(H48=\"\",\"\",INDIRECT(\"H48\"))","v":""},null,null,null,null,null,null,null,null,null,null,null,{"$f":"IF(T47=\"\",\"\",INDIRECT(\"T47\"))","v":""}]
[]
[]
[null,null,10,null,null,null,null,{"$f":"IF(H51=\"\",\"\",INDIRECT(\"H51\"))","v":""},null,null,null,null,null,null,null,null,null,null,null,{"$f":"IF(T50=\"\",\"\",INDIRECT(\"T50\"))","v":""}]
[]
[]
[]
[]
[]
[]
[]
[null,null,null,"「区間」の欄には、数字または「補員」を記入すること。"]
[]
[null,null,null,"※オーダー提出後の競技者及び区間の変更は認めない。それ以降の競技者の変更は、その区間と補員"]
[null,null,null,"　との交替のみとする。その際、競技者変更届を大会当日の５日(金) 8:00までに大会本部へ提出すること。"]
[]
[null,null,null,"平成２７年度 大分県中学校総合体育大会"]
[]
[null,null,null,"第63回男子",null,null,null,null,null,null,"大分県中学校駅伝競走大会"]
[]
[null,null,null,"第28回女子"]
[]
[]
[]
[]
[null,null,"健　康　観　察　表"]
[]
[]
[]
[null,null,"郡市名",null,null,null,{"$f":"IF(郡市名=\"\",\"\",郡市名&代表名)","v":""},null,null,null,null,null,"学校名",null,null,null,{"$f":"MENU!$E$7&MENU!$G$7&\"　\"&MENU!$H$7","v":"立　"},null,null,null,null,null,null,null,null,null,null,null,"中学校"]
[]
[null,null,"ナンバー\nカード",null,null,null,{"$f":"IF(ナンバーカード=\"\",\"\",ナンバーカード)","v":""},null,null,null,null,null,null,null,null,"男子",null,null,null,null,"監督名",null,null,null,{"$f":"IF(監督名=\"\",\"\",監督名)","v":""}]
[]
[]
[null,null,"登録\n番号",null,"名　前",null,null,null,null,"体　温",null,null,null,"呼吸器の症状",null,null,null,null,null,null,null,null,null,"呼吸器以外の症状"]
[]
[null,null,1,null,{"$f":"IF(H23=\"\",\"\",H23)","v":""},null,null,null,null,".　℃ ",null,null,null,"なし･鼻水･鼻閉･咽頭痛･咳･その他",null,null,null,null,null,null,null,null,null,"なし･下痢･嘔吐･頭痛･その他"]
[null,null,null,null,{"$f":"IF(H24=\"\",\"\",H24)","v":""}]
[]
[null,null,2,null,{"$f":"IF(H26=\"\",\"\",H26)","v":""},null,null,null,null,".　℃ ",null,null,null,"なし･鼻水･鼻閉･咽頭痛･咳･その他",null,null,null,null,null,null,null,null,null,"なし･下痢･嘔吐･頭痛･その他"]
[null,null,null,null,{"$f":"IF(H27=\"\",\"\",H27)","v":""}]
[]
[null,null,3,null,{"$f":"IF(H29=\"\",\"\",H29)","v":""},null,null,null,null,".　℃ ",null,null,null,"なし･鼻水･鼻閉･咽頭痛･咳･その他",null,null,null,null,null,null,null,null,null,"なし･下痢･嘔吐･頭痛･その他"]
[null,null,null,null,{"$f":"IF(H30=\"\",\"\",H30)","v":""}]
[]
[null,null,4,null,{"$f":"IF(H32=\"\",\"\",H32)","v":""},null,null,null,null,".　℃ ",null,null,null,"なし･鼻水･鼻閉･咽頭痛･咳･その他",null,null,null,null,null,null,null,null,null,"なし･下痢･嘔吐･頭痛･その他"]
[null,null,null,null,{"$f":"IF(H33=\"\",\"\",H33)","v":""}]
[]
[null,null,5,null,{"$f":"IF(H35=\"\",\"\",H35)","v":""},null,null,null,null,".　℃ ",null,null,null,"なし･鼻水･鼻閉･咽頭痛･咳･その他",null,null,null,null,null,null,null,null,null,"なし･下痢･嘔吐･頭痛･その他"]
[null,null,null,null,{"$f":"IF(H36=\"\",\"\",H36)","v":""}]
[]
[null,null,6,null,{"$f":"IF(H38=\"\",\"\",H38)","v":""},null,null,null,null,".　℃ ",null,null,null,"なし･鼻水･鼻閉･咽頭痛･咳･その他",null,null,null,null,null,null,null,null,null,"なし･下痢･嘔吐･頭痛･その他"]
[null,null,null,null,{"$f":"IF(H39=\"\",\"\",H39)","v":""}]
[]
[null,null,7,null,{"$f":"IF(H41=\"\",\"\",H41)","v":""},null,null,null,null,".　℃ ",null,null,null,"なし･鼻水･鼻閉･咽頭痛･咳･その他",null,null,null,null,null,null,null,null,null,"なし･下痢･嘔吐･頭痛･その他"]
[null,null,null,null,{"$f":"IF(H42=\"\",\"\",H42)","v":""}]
[]
[null,null,8,null,{"$f":"IF(H44=\"\",\"\",H44)","v":""},null,null,null,null,".　℃ ",null,null,null,"なし･鼻水･鼻閉･咽頭痛･咳･その他",null,null,null,null,null,null,null,null,null,"なし･下痢･嘔吐･頭痛･その他"]
[null,null,null,null,{"$f":"IF(H45=\"\",\"\",H45)","v":""}]
[]
[null,null,9,null,{"$f":"IF(H47=\"\",\"\",H47)","v":""},null,null,null,null,".　℃ ",null,null,null,"なし･鼻水･鼻閉･咽頭痛･咳･その他",null,null,null,null,null,null,null,null,null,"なし･下痢･嘔吐･頭痛･その他"]
[null,null,null,null,{"$f":"IF(H48=\"\",\"\",H48)","v":""}]
[]
[null,null,10,null,{"$f":"IF(H50=\"\",\"\",H50)","v":""},null,null,null,null,".　℃ ",null,null,null,"なし･鼻水･鼻閉･咽頭痛･咳･その他",null,null,null,null,null,null,null,null,null,"なし･下痢･嘔吐･頭痛･その他"]
[null,null,null,null,{"$f":"IF(H51=\"\",\"\",H51)","v":""}]
[]
[null,null,"変更\n①",null,null,null,null,null,null,".　℃ ",null,null,null,"なし･鼻水･鼻閉･咽頭痛･咳･その他",null,null,null,null,null,null,null,null,null,"なし･下痢･嘔吐･頭痛･その他"]
[]
[]
[null,null,"変更\n②",null,null,null,null,null,null,".　℃ ",null,null,null,"なし･鼻水･鼻閉･咽頭痛･咳･その他",null,null,null,null,null,null,null,null,null,"なし･下痢･嘔吐･頭痛･その他"]
[]
[]
[null,null,"変更\n③",null,null,null,null,null,null,".　℃ ",null,null,null,"なし･鼻水･鼻閉･咽頭痛･咳･その他",null,null,null,null,null,null,null,null,null,"なし･下痢･嘔吐･頭痛･その他"]
[]
[]
[]
[]
[]
[null,null,null,null,null,null,null,null,null,null,null,null,null,null,null,null,null,null,null,null,null,null,null,null,null,null,null,null,null,null,null,"※朝、登録選手全員に健康観察を行い、チーム受付時に全チーム提出〔７日(土)8:30まで〕"]
[]
[]
[null,null,null,null,1,2,3,4,5,6,"補員"]

{"sheet":"登録者変更届","index":5,"n_rows":58,"n_cols":29,"rows_kept":58,"cut":false,"hidden":false,"merged":[[50,3,53,5],[50,6,51,13],[50,14,53,16],[50,20,51,27],[50,28,53,30],[52,6,53,13],[52,20,53,27],[46,3,49,5],[46,6,47,13],[46,14,49,16],[46,20,47,27],[46,28,49,30],[48,6,49,13],[48,20,49,27],[42,3,45,5],[42,6,43,13],[42,14,45,16],[42,20,43,27],[42,28,45,30],[44,6,45,13],[44,20,45,27],[38,3,41,5],[38,6,39,13],[38,14,41,16],[38,20,39,27],[38,28,41,30],[40,6,41,13],[40,20,41,27],[56,1,56,32],[1,3,2,30],[3,3,4,9],[3,10,6,30],[5,3,6,9],[10,1,12,32],[16,3,18,8],[16,9,18,15],[22,3,24,8],[22,9,24,15],[27,3,29,8],[27,9,29,18],[27,19,29,23],[32,3,34,8],[32,9,34,18],[32,19,34,23]]}
[]
[1,null,null,{"$f":"女子!$C$2","v":"令和３年度 大分県中学校総合体育大会"}]
[2]
[3,null,null,{"$f":"MENU!$B$2","v":"第69回男子"},null,null,null,null,null,null,"大分県中学校駅伝競走大会"]
[4]
[5,null,null,{"$f":"MENU!$B$3","v":"第34回女子"}]
[6]
[7]
[8]
[9]
[10,"登　録　者　変　更　届"]
[11]
[12]
[13]
[14]
[15]
[16,null,null,"郡市名",null,null,null,null,null,{"$f":"IF(郡市名=\"\",\"\",郡市名&代表名)","v":""}]
[17]
[18]
[19]
[20]
[21]
[22,null,null,"ナンバー\nカード",null,null,null,null,null,{"$f":"IF(ナンバーカード=\"\",\"\",ナンバーカード)","v":""}]
[23]
[24]
[25]
[26]
[27,null,null,"学校名",null,null,null,null,null,{"$f":"IF(MENU!H7=\"\",\"\",MENU!H7)","v":""},null,null,null,null,null,null,null,null,null,"中学校"]
[28]
[29]
[30]
[31]
[32,null,null,"監督名",null,null,null,null,null,{"$f":"IF(監督名=\"\",\"\",監督名)","v":""},null,null,null,null,null,null,null,null,null,"㊞"]
[33]
[34]
[35]
[36]
[37]
[38,null,null,"登録\n番号",null,null,"ふりがな",null,null,null,null,null,null,null,"学年",null,null,null,null,null,"ふりがな",null,null,null,null,null,null,null,"学年"]
[39]
[40,null,null,null,null,null,"変更前氏名",null,null,null,null,null,null,null,null,null,null,null,null,null,"変更後氏名"]
[41]
[42]
[43]
[44]
[45]
[46]
[47]
[48]
[49]
[50]
[51]
[52]
[53]
[54]
[55]
[56,{"$f":"女子!$C$64","v":"※登録者の変更がある場合は、11/01(月) までに大分県中体連事務局へ提出すること。"}]
[57]

{"sheet":"競技者変更届","index":6,"n_rows":58,"n_cols":29,"rows_kept":58,"cut":false,"hidden":false,"merged":[[50,3,53,4],[50,6,51,13],[50,14,53,16],[50,20,51,27],[50,28,53,30],[52,6,53,13],[52,20,53,27],[46,3,49,4],[46,6,47,13],[46,14,49,16],[46,20,47,27],[46,28,49,30],[48,6,49,13],[48,20,49,27],[38,28,41,30],[40,6,41,13],[40,20,41,27],[42,3,45,4],[42,6,43,13],[42,14,45,16],[42,20,43,27],[42,28,45,30],[44,6,45,13],[44,20,45,27],[27,19,29,23],[32,3,34,8],[32,9,34,18],[32,19,34,23],[38,3,41,5],[38,6,39,13],[38,14,41,16],[38,20,39,27],[16,3,18,8],[16,9,18,15],[22,3,24,8],[22,9,24,15],[27,3,29,8],[27,9,29,18],[1,3,2,30],[3,3,4,9],[3,10,6,30],[5,3,6,9],[10,1,12,32]]}
[]
[1,null,null,{"$f":"女子!$C$2","v":"令和３年度 大分県中学校総合体育大会"}]
[2]
[3,null,null,{"$f":"MENU!$B$2","v":"第69回男子"},null,null,null,null,null,null,"大分県中学校駅伝競走大会"]
[4]
[5,null,null,{"$f":"MENU!$B$3","v":"第34回女子"}]
[6]
[7]
[8]
[9]
[10,"競　技　者　変　更　届"]
[11]
[12]
[13]
[14]
[15]
[16,null,null,"郡市名",null,null,null,null,null,{"$f":"IF(郡市名=\"\",\"\",郡市名&代表名)","v":""}]
[17]
[18]
[19]
[20]
[21]
[22,null,null,"ナンバー\nカード",null,null,null,null,null,{"$f":"IF(ナンバーカード=\"\",\"\",ナンバーカード)","v":""}]
[23]
[24]
[25]
[26]
[27,null,null,"学校名",null,null,null,null,null,{"$f":"IF(MENU!H7=\"\",\"\",MENU!H7)","v":""},null,null,null,null,null,null,null,null,null,"中学校"]
[28]
[29]
[30]
[31]
[32,null,null,"監督名",null,null,null,null,null,{"$f":"IF(監督名=\"\",\"\",監督名)","v":""},null,null,null,null,null,null,null,null,null,"㊞"]
[33]
[34]
[35]
[36]
[37]
[38,null,null,"区間",null,null,"ふりがな",null,null,null,null,null,null,null,"学年",null,null,null,null,null,"ふりがな",null,null,null,null,null,null,null,"学年"]
[39]
[40,null,null,null,null,null,"変更前氏名",null,null,null,null,null,null,null,null,null,null,null,null,null,"変更後氏名"]
[41]
[42]
[43]
[44,null,null,null,null,"区"]
[45]
[46]
[47]
[48,null,null,null,null,"区"]
[49]
[50]
[51]
[52,null,null,null,null,"区"]
[53]
[54]
[55]
[56,null,null,"※変更がある場合は、11/05(金)、大会当日の7:45～8:00までに大会本部に提出すること。"]
[57]

{"sheet":"監督・コーチ変更届","index":7,"n_rows":58,"n_cols":20,"rows_kept":58,"cut":false,"hidden":false,"merged":[[45,3,47,8],[45,9,47,23],[51,3,55,30],[27,19,29,23],[32,3,34,8],[32,9,34,18],[32,19,34,23],[40,3,42,8],[40,9,42,23],[16,3,18,8],[16,9,18,15],[22,3,24,8],[22,9,24,15],[27,3,29,8],[27,9,29,18],[1,3,2,30],[3,3,4,9],[3,10,6,30],[5,3,6,9],[10,1,12,32]]}
[]
[1,null,null,{"$f":"女子!$C$2","v":"令和３年度 大分県中学校総合体育大会"}]
[2]
[3,null,null,{"$f":"MENU!$B$2","v":"第69回男子"},null,null,null,null,null,null,"大分県中学校駅伝競走大会"]
[4]
[5,null,null,{"$f":"MENU!$B$3","v":"第34回女子"}]
[6]
[7]
[8]
[9]
[10,"監　督　・　コ　ー　チ　変　更　届"]
[11]
[12]
[13]
[14]
[15]
[16,null,null,"郡市名",null,null,null,null,null,{"$f":"IF(郡市名=\"\",\"\",郡市名&代表名)","v":""}]
[17]
[18]
[19]
[20]
[21]
[22,null,null,"ナンバー\nカード",null,null,null,null,null,{"$f":"IF(ナンバーカード=\"\",\"\",ナンバーカード)","v":""}]
[23]
[24]
[25]
[26]
[27,null,null,"学校名",null,null,null,null,null,{"$f":"IF(MENU!H7=\"\",\"\",MENU!H7)","v":""},null,null,null,null,null,null,null,null,null,"中学校"]
[28]
[29]
[30]
[31]
[32,null,null,"監督名",null,null,null,null,null,{"$f":"IF(監督名=\"\",\"\",監督名)","v":""},null,null,null,null,null,null,null,null,null,"㊞"]
[33]
[34]
[35]
[36]
[37]
[38]
[39]
[40,null,null,"新監督名"]
[41]
[42]
[43]
[44]
[45,null,null,"新コーチ名"]
[46]
[47]
[48]
[49]
[50,null,null,"変更理由"]
[51]
[52]
[53]
[54]
[55]
[56,null,null,"※変更が生じた場合は、速やかに大分県中体連事務局へ提出すること。"]
[57]

{"sheet":"学校同行者体調記録表","index":8,"n_rows":47,"n_cols":33,"rows_kept":47,"cut":false,"hidden":false,"merged":[[4,1,5,32],[7,2,7,4],[7,5,7,14],[7,19,7,21],[7,22,7,31],[14,22,14,23],[14,24,14,31],[19,6,19,12],[19,4,19,5],[19,20,19,21],[19,22,19,23],[19,24,19,31],[18,13,18,15],[18,16,18,17],[18,18,18,19],[18,20,18,21],[18,22,18,23],[18,24,18,31],[20,4,20,5],[15,24,15,31],[16,13,16,15],[16,16,16,17],[16,18,16,19],[14,16,14,17],[14,18,14,19],[14,20,14,21],[15,6,15,12],[16,6,16,12],[17,6,17,12],[18,6,18,12],[16,20,16,21],[16,22,16,23],[16,24,16,31],[17,13,17,15],[17,16,17,17],[17,18,17,19],[17,20,17,21],[17,22,17,23],[17,24,17,31],[19,13,19,15],[19,16,19,17],[19,18,19,19],[29,2,44,3],[12,16,13,31],[12,2,14,5],[12,6,14,12],[15,13,15,15],[15,16,15,17],[15,18,15,19],[15,20,15,21],[15,22,15,23],[27,4,27,5],[28,4,28,5],[12,13,13,15],[14,13,14,15],[15,2,15,5],[16,2,16,5],[17,2,17,5],[18,2,18,5],[19,2,28,3],[21,4,21,5],[22,4,22,5],[23,4,23,5],[24,4,24,5],[25,4,25,5],[26,4,26,5],[20,24,20,31],[21,6,21,12],[21,13,21,15],[21,16,21,17],[21,18,21,19],[21,20,21,21],[21,22,21,23],[21,24,21,31],[20,6,20,12],[20,13,20,15],[20,16,20,17],[20,18,20,19],[20,20,20,21],[20,22,20,23],[22,24,22,31],[23,6,23,12],[23,13,23,15],[23,16,23,17],[23,18,23,19],[23,20,23,21],[23,22,23,23],[23,24,23,31],[22,6,22,12],[22,13,22,15],[22,16,22,17],[22,18,22,19],[22,20,22,21],[22,22,22,23],[24,24,24,31],[25,6,25,12],[25,13,25,15],[25,16,25,17],[25,18,25,19],[25,20,25,21],[25,22,25,23],[25,24,25,31],[24,6,24,12],[24,13,24,15],[24,16,24,17],[24,18,24,19],[24,20,24,21],[24,22,24,23],[26,24,26,31],[27,6,27,12],[27,13,27,15],[27,16,27,17],[27,18,27,19],[27,20,27,21],[27,22,27,23],[27,24,27,31],[26,6,26,12],[26,13,26,15],[26,16,26,17],[26,18,26,19],[26,20,26,21],[26,22,26,23],[28,24,28,31],[29,6,29,12],[29,13,29,15],[29,16,29,17],[29,18,29,19],[29,20,29,21],[29,22,29,23],[29,24,29,31],[28,6,28,12],[28,13,28,15],[28,16,28,17],[28,18,28,19],[28,20,28,21],[28,22,28,23],[30,24,30,31],[31,6,31,12],[31,13,31,15],[31,16,31,17],[31,18,31,19],[31,20,31,21],[31,22,31,23],[31,24,31,31],[30,6,30,12],[30,13,30,15],[30,16,30,17],[30,18,30,19],[30,20,30,21],[30,22,30,23],[32,24,32,31],[33,6,33,12],[33,13,33,15],[33,16,33,17],[33,18,33,19],[33,20,33,21],[33,22,33,23],[33,24,33,31],[32,6,32,12],[32,13,32,15],[32,16,32,17],[32,18,32,19],[32,20,32,21],[32,22,32,23],[34,24,34,31],[35,6,35,12],[35,13,35,15],[35,16,35,17],[35,18,35,19],[35,20,35,21],[35,22,35,23],[35,24,35,31],[34,6,34,12],[34,13,34,15],[34,16,34,17],[34,18,34,19],[34,20,34,21],[34,22,34,23],[36,24,36,31],[37,6,37,12],[37,13,37,15],[37,16,37,17],[37,18,37,19],[37,20,37,21],[37,22,37,23],[37,24,37,31],[36,6,36,12],[36,13,36,15],[36,16,36,17],[36,18,36,19],[36,20,36,21],[36,22,36,23],[38,24,38,31],[39,6,39,12],[39,13,39,15],[39,16,39,17],[39,18,39,19],[39,20,39,21],[39,22,39,23],[39,24,39,31],[38,6,38,12],[38,13,38,15],[38,16,38,17],[38,18,38,19],[38,20,38,21],[38,22,38,23],[40,24,40,31],[41,6,41,12],[41,13,41,15],[41,16,41,17],[41,18,41,19],[41,20,41,21],[41,22,41,23],[41,24,41,31],[40,6,40,12],[40,13,40,15],[40,16,40,17],[40,18,40,19],[40,20,40,21],[40,22,40,23],[43,6,43,12],[43,13,43,15],[43,16,43,17],[43,18,43,19],[43,20,43,21],[43,22,43,23],[43,24,43,31],[42,6,42,12],[42,13,42,15],[42,16,42,17],[42,18,42,19],[42,20,42,21],[42,22,42,23],[44,4,44,5],[38,4,38,5],[39,4,39,5],[40,4,40,5],[41,4,41,5],[42,4,42,5],[43,4,43,5],[44,24,44,31],[29,4,29,5],[30,4,30,5],[31,4,31,5],[32,4,32,5],[33,4,33,5],[34,4,34,5],[35,4,35,5],[36,4,36,5],[37,4,37,5],[44,6,44,12],[44,13,44,15],[44,16,44,17],[44,18,44,19],[44,20,44,21],[44,22,44,23],[42,24,42,31]]}
[]
[1,"(別紙２)"]
[2,null,null,null,null,null,null,null,null,null,null,null,null,null,null,null,null,null,null,null,null,null,null,null,null,null,null,null,null,null,null,null,"令和＿＿年＿＿月＿＿日"]
[3]
[4,"学校同行者体調記録表"]
[5]
[6]
[7,null,"学校名",null,null,{"$f":"MENU!E7&\"立\"&MENU!H7&\"中学校\"","v":"立中学校"},null,null,null,null,null,null,null,null,null,null,null,null,null,"引率者名"]
[8]
[9,null,"① 平熱を越える発熱(概ね37度5分以上)",null,null,null,null,null,null,null,null,null,null,null,null,null,null,null,"② せき、のどの痛みなど風邪の症状"]
[10,null,"③ だるさ(倦怠感)、息苦しさ(呼吸困難)",null,null,null,null,null,null,null,null,null,null,null,null,null,null,null,"④ 味覚や嗅覚の異常"]
[11]
[12,null,"№",null,null,null,"名　前",null,null,null,null,null,null,"本日の\n体温",null,null,"体調記録表(２週間の間)において、異常がなければ\n各項目にレをしてください"]
[13]
[14,null,null,null,null,null,null,null,null,null,null,null,null,"（℃）",null,null,"①",null,"②",null,"③",null,"④",null,"備考"]
[15,1,"学校長",null,null,null,{"$f":"MENU!E9","v":0}]
[16,2,"監　督",null,null,null,{"$f":"MENU!E16","v":0}]
[17,3,"コーチ",null,null,null,{"$f":"MENU!E19","v":0}]
[18,4,"引率者"]
[19,5,"登録者競技者",null,1,null,{"$f":"女子!$H$24&男子!$H$24","v":""}]
[20,6,null,null,2,null,{"$f":"女子!$H$27&男子!$H$27","v":""}]
[21,7,null,null,3,null,{"$f":"女子!$H$30&男子!$H$30","v":""}]
[22,8,null,null,4,null,{"$f":"女子!$H$33&男子!$H$33","v":""}]
[23,9,null,null,5,null,{"$f":"女子!$H$36&男子!$H$36","v":""}]
[24,10,null,null,6,null,{"$f":"女子!$H$39&男子!$H$39","v":""}]
[25,11,null,null,7,null,{"$f":"女子!$H$42&男子!$H$42","v":""}]
[26,12,null,null,8,null,{"$f":"女子!$H$45&男子!$H$45","v":""}]
[27,13,null,null,9,null,{"$f":"男子!$H$48","v":0}]
[28,14,null,null,10,null,{"$f":"男子!$H$51","v":0}]
[29,15,"その他の部員",null,11]
[30,16,null,null,12]
[31,17,null,null,13]
[32,18,null,null,14]
[33,19,null,null,15]
[34,20,null,null,16]
[35,21,null,null,17]
[36,22,null,null,18]
[37,23,null,null,19]
[38,24,null,null,20]
[39,25,null,null,21]
[40,26,null,null,22]
[41,27,null,null,23]
[42,28,null,null,24]
[43,29,null,null,25]
[44,30,null,null,26]
[45,null,"※参加する保護者以外の学校関係者を記載し、大会当日持参してください。"]
[46]